BEGIN:VCALENDAR
VERSION:2.0
PRODID:-//Brandywine Peace Community - ECPv5.1.4//NONSGML v1.0//EN
CALSCALE:GREGORIAN
METHOD:PUBLISH
X-WR-CALNAME:Brandywine Peace Community
X-ORIGINAL-URL:https://www.brandywinepeace.com
X-WR-CALDESC:Events for Brandywine Peace Community
BEGIN:VTIMEZONE
TZID:America/New_York
BEGIN:DAYLIGHT
TZOFFSETFROM:-0500
TZOFFSETTO:-0400
TZNAME:EDT
DTSTART:20240310T070000
END:DAYLIGHT
BEGIN:STANDARD
TZOFFSETFROM:-0400
TZOFFSETTO:-0500
TZNAME:EST
DTSTART:20241103T060000
END:STANDARD
END:VTIMEZONE
BEGIN:VEVENT
DTSTART;TZID=America/New_York:20240614T160000
DTEND;TZID=America/New_York:20240615T170000
DTSTAMP:20260419T142012
CREATED:20240602T052128Z
LAST-MODIFIED:20240602T052236Z
UID:2351-1718380800-1718470800@www.brandywinepeace.com
SUMMARY:Veterans for Peace PEACE WALK 2024 Comes to Philadelphia
DESCRIPTION:\n\n\n\n\n\n\n\n\n\n\n\n\n\n\n\n\nWe’re walking from Maine to Washington\, DC\, for peace and planet\, justice and democracy\nhttps://peacewalk2024.org/about/\n\n\n\n\n\n\n\n\n\n\n\nFriday\, June 14th\, 2024\, Veterans for Peace\nPEACE WALK 2024 Arrives in Philadelphia. \nGreeting & press conference: Independence Park\,  4 PM\, 6th\, & Market. Liberty Bell\, Philadelphia\, PA.\nWelcoming Remarks: • David Gibson\, Peace\, Justice\, Sustainability NOW • Tina Sheldon\,\nWILPF Greater Philadelphia Branch • Bob Smith\, Brandywine Peace Community\,\nand Walkers\, Vets for Peace • Q & A and interviews with press \n\n\n\n\n\n\n\n\n\n\n\n\n6p.m. Join us for what  promises to be an evening of enlightenment and community enrichment at Friends Center\, 1501 Cherry St\, Philadelphia\, PA 19102. Partake in  potluck supper\, followed by a thought- provoking lecture by the esteemed George Lakey\, and a special music performance by the talented Justice Seekers – celebration of “A Piece of the Peace”. George Russell Lakey\, activist\, sociologist\, and distinguished writer\, has made a life-long significant contributions to the concept of nonviolent revolution. He is renowned for his work in developing the practice of experiential training for activists\, which he refers to as “Direct Education”\nWe look forward to seeing you there!\nSaturday\, June 15 Direct action events:\nSaturday\, June 15\, Veterans for Peace PEACE WALK ’24 Resumes…Direct Action  Starting at 9:00 AM\n⎯ Day & Zimmerman\, war contractor\, 1500 Spring Garden St\, Philadelphia PA\, 9:00 AM Day & Zimmerman are makers of weapons of war. Many of their products are sold to countries that the US arms\, including Israel.\nTheir website says:\n“Day & Zimmermann is a century-old\, family-owned company specializing in construction & engineering\, operations & maintenance\, staffing\, security and defense for leading corporations and governments around the world.”\nAt the office of Day & Zimmerman we demand they get out of the war business and stick to less deadly pursuits. Some of the current products are\n– Explosives: LX-04\, 10\, 14\, 17\, Castable PBX’s\, Comp A3 & A5\, Comp B & H6\, PAX-2A\, 3\, 30\, 42\, PBXN-5\, 9\, 11\, HNS\, TNT\, Octal\, HTA3\n– Bomb\, shells and missilesHellfire\, Longbow\, Javelin\, TOW 2A and 2B\, Sidewinder\, Tank Warheads\, Viper\, Mongoose\, WAM\, GSTAMIDS\, M982 Excalibur. \nDivest from Israel Bonds\, 1511 Walnut St Suite 301\, Philadelphia\, PA 10:00 AM\, Israel Bonds\, (Development Corporation for Israel)\, are a direct investment in the State of Israel. The bonds have been backed by the Israeli government\, since 1951. The Bonds help fund the Israeli economy. State and local treasuries across the U.S. invest hundreds of millions in the state of Israel this way. A record setting $2 billion in sales was made in 2023 with $1 billion raised since Oct. 7th while Israel has bombed hospitals and laid waste to infrastructure in Gaza.We will encourage Pennsylvania to divest until Israel agrees to end the Occupation of Palestine. Under Stacy Garrity\, the Pennsylvania Treasury Department invested $20 million in 2023.\nMore here:\n⎯ Sendoff event & action: Phila. Naval Shipyard –Merchants of Death tour. – 11:30 AM Offices of these U.S. weapons profiteers are at the Phila. Naval Yard: 1 – Advance Integrated Technologies\, 2 – American Systems Corporation\, 3 – AMSEC/HII\,  4 – Continental Tide Defense Systems\, Inc. 5 – GBS Group\, 6 – Naval Surface Warfare Center\, Philadelphia Division (NSWCPD)\, 7 – NOBLIS MSD (Formerly McKean Defense)\, 8 – Northrop Grumman Corporation\, 9 – Paramount Enterprises International\, 10 – Peraton.\nWalkers will point them out and deliver Cease & Desist Orders to stop making weapons of war in a“Merchants of Death Tour” around the Yard before resuming the Peace Walk walk out of Philadelphia to Delaware County\n
URL:https://www.brandywinepeace.com/event/veterans-for-peace-peace-walk-2024-comes-to-philadelphia/
LOCATION:Liberty Bell Park\, 6th & Market Sts.\, Phila.\, PA\, 6th & Market Street\, Phila\, PA\, 19106\, United States
ORGANIZER;CN="Peace%20Justice%20Sustainability%20NOW":MAILTO:peacehome.campaigns@gmail.com
END:VEVENT
END:VCALENDAR