BEGIN:VCALENDAR
VERSION:2.0
PRODID:-//Brandywine Peace Community - ECPv5.1.4//NONSGML v1.0//EN
CALSCALE:GREGORIAN
METHOD:PUBLISH
X-WR-CALNAME:Brandywine Peace Community
X-ORIGINAL-URL:https://www.brandywinepeace.com
X-WR-CALDESC:Events for Brandywine Peace Community
BEGIN:VTIMEZONE
TZID:America/New_York
BEGIN:DAYLIGHT
TZOFFSETFROM:-0500
TZOFFSETTO:-0400
TZNAME:EDT
DTSTART:20250309T070000
END:DAYLIGHT
BEGIN:STANDARD
TZOFFSETFROM:-0400
TZOFFSETTO:-0500
TZNAME:EST
DTSTART:20251102T060000
END:STANDARD
END:VTIMEZONE
BEGIN:VEVENT
DTSTART;TZID=America/New_York:20250304T200000
DTEND;TZID=America/New_York:20250304T213000
DTSTAMP:20260420T051749
CREATED:20250304T223520Z
LAST-MODIFIED:20250304T223520Z
UID:2446-1741118400-1741123800@www.brandywinepeace.com
SUMMARY:STOP THE MADNESS OF TRUMP as he gives his state of dis-union address
DESCRIPTION:\nSTAND-UP & SPEAK-OUT! \nSTOP THE MADNESS OF TRUMP!\n\n… as he gives his state of dis-union address\n \n\nTONIGHT\, Tuesday\, March 4 at 8 p.m.\nIN FRONT OF WPVI – CHANNEL 6\nCorner of City & Monument Avenues\n4100 City Line Ave. Phila.\, PA\n \nwww.brandywinepeace.com\n\n \n\n\n\n\n
URL:https://www.brandywinepeace.com/event/stop-the-madness-of-trump-as-he-gives-his-state-of-dis-union-address/
LOCATION:WPVI ABC channel6\, 4100 City Avenue\, Philadelphia\, 19131\, United States
ORGANIZER;CN="Brandywine%20Peace%20Community":MAILTO:brandywine@juno.com
END:VEVENT
END:VCALENDAR