BEGIN:VCALENDAR
VERSION:2.0
PRODID:-//Brandywine Peace Community - ECPv5.1.4//NONSGML v1.0//EN
CALSCALE:GREGORIAN
METHOD:PUBLISH
X-WR-CALNAME:Brandywine Peace Community
X-ORIGINAL-URL:https://www.brandywinepeace.com
X-WR-CALDESC:Events for Brandywine Peace Community
BEGIN:VTIMEZONE
TZID:America/New_York
BEGIN:DAYLIGHT
TZOFFSETFROM:-0500
TZOFFSETTO:-0400
TZNAME:EDT
DTSTART:20240310T070000
END:DAYLIGHT
BEGIN:STANDARD
TZOFFSETFROM:-0400
TZOFFSETTO:-0500
TZNAME:EST
DTSTART:20241103T060000
END:STANDARD
END:VTIMEZONE
BEGIN:VEVENT
DTSTART;TZID=America/New_York:20240329T120000
DTEND;TZID=America/New_York:20240329T150000
DTSTAMP:20260421T083820
CREATED:20240321T030657Z
LAST-MODIFIED:20240321T191948Z
UID:2323-1711713600-1711724400@www.brandywinepeace.com
SUMMARY:GOOD FRIDAY\,  SAY "NO!" to LOCKHEED MARTIN\, GAZA CEASE-FIRE PILGRAMAGE CONCLUDES
DESCRIPTION:Unspeakable numbers of civilians continue to be killed by Israel’s bombardment of Gaza\, with bombers made by Lockheed Martin\, the U.S.’s #1 war profiteer\, and its division\, “LOCKHEED MARTIN – ISRAEL”\n\nhttps://www.redletterchristians.org/gaza-ceasefire-pilgrimage-philadelphia/\n\nGAZA CEASE-FIRE PILGRAMAGE CONCLUDES IN KING OF PRUSSIA AT LOCKHEED MARTIN\,\n230 Mall Boulevard\, King of Prussia\, PA 19406 (behind King of Prussia Mall):\n\nThe day’s Banner and Poster Vigil for Peace represents the Brandywine Peace Comuunity’s nearly half  century of nonviolent action in the Philadelphia area and in King of Prussia at Lockheed Martin\, the site of\, to this day\, repeated peace walks and demonstrations and hundreds of people arrested for nonviolent resistance at\, in\, and over the weapons mega-corportion and the world’s #1 war profiteer.\nOn Good Friday\, March 29\, 2024\, the Brandywine Peace Community mournfully and prayerfully joins  the GAZA CEASE-FIRE PILGRAMAGE that our love for the people of Gaza\, may replace the slaughter and hatred of every bomber and bomb built by “LOCKHEED MARTIN – ISRAEL”.\n \n  \n
URL:https://www.brandywinepeace.com/event/good-friday-say-no-lockheed-martin-gaza-cease-fire-pilgramage-concludes/
LOCATION:Lockheed Martin\, 230 Mall Boulevard\, King of Prussia\, 19406\, United States
ORGANIZER;CN="Brandywine%20Peace%20Community":MAILTO:brandywine@juno.com
END:VEVENT
END:VCALENDAR