BEGIN:VCALENDAR
VERSION:2.0
PRODID:-//Brandywine Peace Community - ECPv5.1.4//NONSGML v1.0//EN
CALSCALE:GREGORIAN
METHOD:PUBLISH
X-WR-CALNAME:Brandywine Peace Community
X-ORIGINAL-URL:https://www.brandywinepeace.com
X-WR-CALDESC:Events for Brandywine Peace Community
BEGIN:VTIMEZONE
TZID:America/New_York
BEGIN:DAYLIGHT
TZOFFSETFROM:-0500
TZOFFSETTO:-0400
TZNAME:EDT
DTSTART:20240310T070000
END:DAYLIGHT
BEGIN:STANDARD
TZOFFSETFROM:-0400
TZOFFSETTO:-0500
TZNAME:EST
DTSTART:20241103T060000
END:STANDARD
END:VTIMEZONE
BEGIN:VEVENT
DTSTART;TZID=America/New_York:20240907T143000
DTEND;TZID=America/New_York:20240907T173000
DTSTAMP:20260419T125436
CREATED:20240503T024004Z
LAST-MODIFIED:20240510T010259Z
UID:2338-1725719400-1725730200@www.brandywinepeace.com
SUMMARY:DEVOUT & DANGEROUS\, documentary about the Berrigans/McAlister nonviolent resistance community; & Brad Wolf with his recently published MINISTRY OF RISK\, the definitive writings on peace and Nonviolence by Philip Berrigan
DESCRIPTION:After 4 decades of Plowshares actions\, it’s nuclear warfare that should be on trial — not activists\nForty years ago\, the Plowshares Eight sparked a movement of nuclear disarmers that continues to take responsibility for weapons of mass destruction. Frida Berrigan September 8\, 2020\nhttps://wagingnonviolence.org/2020/09/plowshares-eight-king-of-prussia-40th-anniversary-nuclear-weapons-disarm/\n_________________________\nSeptember 9\, 1980\, King of Prussia\, PA\, just outside of Philadelphia\, at General Electric (now\, Lockheed Martin) – the Plowshares 8.  \nSeptember 9\, 2024\, 40 years on…Remembrance & Resistance\nSATURDAY\, SEPTEMBER 7\, 2:30P.M.\nGERMANTOWN FRIENDS MEETINGHOUSE\,\n47 w. Coulter Street\, Philadelphia\, PA\n \n
URL:https://www.brandywinepeace.com/event/devout-brad-wolf-with-his-recently-published-ministry-of-risk-the-definitive-writings-on-peace-and-nonviolenc/
LOCATION:Germantown Friends Meetinghouse\,\, 47 West Coulter Street\, Philadelphia\, PA\, 19144\, United States
ORGANIZER;CN="Brandywine%20Peace%20Community":MAILTO:brandywine@juno.com
END:VEVENT
END:VCALENDAR