BEGIN:VCALENDAR
VERSION:2.0
PRODID:-//Brandywine Peace Community - ECPv5.1.4//NONSGML v1.0//EN
CALSCALE:GREGORIAN
METHOD:PUBLISH
X-WR-CALNAME:Brandywine Peace Community
X-ORIGINAL-URL:https://www.brandywinepeace.com
X-WR-CALDESC:Events for Brandywine Peace Community
BEGIN:VTIMEZONE
TZID:America/New_York
BEGIN:DAYLIGHT
TZOFFSETFROM:-0500
TZOFFSETTO:-0400
TZNAME:EDT
DTSTART:20230312T070000
END:DAYLIGHT
BEGIN:STANDARD
TZOFFSETFROM:-0400
TZOFFSETTO:-0500
TZNAME:EST
DTSTART:20231105T060000
END:STANDARD
END:VTIMEZONE
BEGIN:VEVENT
DTSTART;TZID=America/New_York:20230331T120000
DTEND;TZID=America/New_York:20230331T170000
DTSTAMP:20260420T211943
CREATED:20230209T184131Z
LAST-MODIFIED:20230419T184614Z
UID:2137-1680264000-1680282000@www.brandywinepeace.com
SUMMARY:Act to Ground F-35\, Demonstrations: Market St. Bridge to Benjamin Franklin Bridge
DESCRIPTION:S \n  \n  \n \nOver 220 global organizations are calling for a complete cancellation of the F-35 program. Add your name to express support for defunding the program and investing the massive F-35 budget into life affirming programs like healthcare\, education\, and housing! \nhttps://www.codepink.org/groundthef35\nSee pictures of the day in Philadelphia: http://prawnworks.net/rlg/2023/Opposing-production-F-35-230331.html\nFriday\, MARCH 31\, Noon\nPhiladelphia Acts to Cancel Lockheed Martin’s F-35 Begins at Noon\, Market Street Bridge\, 29th & Market Street\,\n“YOU PAY\, LOCKHEED MARKET PROFITS” and nearby same time at Senator Robert Casey’s Office. 2000 Market Street. The day’s demonstration will conclude at 3p.m. at the Bolt of Lightning. . . A Memorial to Benjamin Franklin at the entrance to Ben Franklin Bridge\, facing New Jersey\, enter behind Memorial  at 6th & Race Street.\nFull schedule \nGround the F-35\n\n\n30th Street Station corner of 29th street and Market – Noon\n\n\nSenator Casey’s Office – Noon\n\n\nUS Federal Building – 1:00\n\n\nBen Franklin Bridge At the bridge entrance facing NJ – 3:00\n\n\nSigns and informational flyer distribution. \nWe will ask Casey or his staff to meet us and pledge to vote to ground the F-35 \nAt the federal building we will deliver a statement calling for the Administration to CANCEL THE F-35\n \n
URL:https://www.brandywinepeace.com/event/act-to-ground-f-35-demonstrations-market-st-bridge-to-benjamin-franklin-bridge/
ORGANIZER;CN="Peace%20Justice%20Sustainability%20NOW":MAILTO:peacehome.campaigns@gmail.com
END:VEVENT
END:VCALENDAR