BEGIN:VCALENDAR
VERSION:2.0
PRODID:-//Brandywine Peace Community - ECPv5.1.4//NONSGML v1.0//EN
CALSCALE:GREGORIAN
METHOD:PUBLISH
X-WR-CALNAME:Brandywine Peace Community
X-ORIGINAL-URL:https://www.brandywinepeace.com
X-WR-CALDESC:Events for Brandywine Peace Community
BEGIN:VTIMEZONE
TZID:America/New_York
BEGIN:DAYLIGHT
TZOFFSETFROM:-0500
TZOFFSETTO:-0400
TZNAME:EDT
DTSTART:20230312T070000
END:DAYLIGHT
BEGIN:STANDARD
TZOFFSETFROM:-0400
TZOFFSETTO:-0500
TZNAME:EST
DTSTART:20231105T060000
END:STANDARD
END:VTIMEZONE
BEGIN:VEVENT
DTSTART;TZID=America/New_York:20231112T110000
DTEND;TZID=America/New_York:20231112T163000
DTSTAMP:20260419T103520
CREATED:20231103T162846Z
LAST-MODIFIED:20231103T162940Z
UID:2259-1699786800-1699806600@www.brandywinepeace.com
SUMMARY:44th Annual Coalition for Peace Action Multi-faith Service & Conference for Peace\, Princeton\, NJ
DESCRIPTION: \nMULTI-FAITH SERVICE for PEACE\, 11a.m\, Princeton University Chapel…Preaching will be Archbishop John C. Wester of the Roman Catholic Archdiocese of Santa Fe\, New Mexico.  Attend in person of via livestream.  Archbishop Wester will also speak at the Afternoon CONFERENCE FOR PEACE.\nHYBRID AFTERNOON CONFERENCE FOR PEACE\, 1:30p.m. – 4:30p.m.\, at CHRIST CONGREGATION \, 50 Walnut Lane\, Princeton\, NJ\, located at the intersection with Houghton\, adjacent to Princeton High School.   ATTEND  in-person or on ZOOM . In addition to Archbishop Wester\, Featured Speakers at the Afternoon Conference for Peace\, include: ELENA PEREZ\, Senior Policy Associate\, March for Our Lives; Professor Frank von Hippel\, Nuclear Weapons Expert\, Princeton University; and Medea Benjamin\, Co-Founder of CODEPINK and author\, with Nicolas J.S. Davies\, is War in Ukraine: Making Sense of a Senseless Conflict. \nREGISTRATION REQUIRED\, go to https://www.peacecoalition.org/\n\n
URL:https://www.brandywinepeace.com/event/44th-annual-coalition-for-peace-action-multi-faith-service-conference-for-peace-princeton-nj/
LOCATION:Coalition for Peace Action\, 61 Nassau Street\, Princeton\, NJ\, 08542\, United States
ORGANIZER;CN="Coalition%20for%20Peace%20Action":MAILTO:cfpa@peacecoalition.org
END:VEVENT
END:VCALENDAR