BEGIN:VCALENDAR
VERSION:2.0
PRODID:-//Brandywine Peace Community - ECPv5.1.4//NONSGML v1.0//EN
CALSCALE:GREGORIAN
METHOD:PUBLISH
X-WR-CALNAME:Brandywine Peace Community
X-ORIGINAL-URL:https://www.brandywinepeace.com
X-WR-CALDESC:Events for Brandywine Peace Community
BEGIN:VTIMEZONE
TZID:America/New_York
BEGIN:DAYLIGHT
TZOFFSETFROM:-0500
TZOFFSETTO:-0400
TZNAME:EDT
DTSTART:20230312T070000
END:DAYLIGHT
BEGIN:STANDARD
TZOFFSETFROM:-0400
TZOFFSETTO:-0500
TZNAME:EST
DTSTART:20231105T060000
END:STANDARD
END:VTIMEZONE
BEGIN:VEVENT
DTSTART;TZID=America/New_York:20230211T100000
DTEND;TZID=America/New_York:20230211T123000
DTSTAMP:20260421T001253
CREATED:20230206T154642Z
LAST-MODIFIED:20230206T154642Z
UID:2128-1676109600-1676118600@www.brandywinepeace.com
SUMMARY:2023 Sacred Heart Gathering for Peace and Justice: The Moral Imperative of Environmental Protection
DESCRIPTION:\n\n\n\n\n\n\n\n\n\n\n\n2023 Sacred Heart Gathering for Peace and Justice\n\nThe Moral Imperative of Environmental Protection\nVirtual Zoom Gathering on the Web\nSaturday\, February 11\, 2023 ~ 10:00 AM to 12:30 PM\n\n2023 Peace and Justice Presenters\nMr. William O’Keefe\nExecutive Vice President for Mission and Mobilization\nCatholic Relief Services\nDr. Mark Doorley\nDirector of Ethics Program\nSt. Augustine Center\nLiberal Arts Department\, Villanova University\nPre-registration required to attend.\nClick here to pre-register\, and receive your unique Zoom link via email to attend this Virtual Gathering. Make sure not to discard the email you receive from Zoom after you register. It will contain your link to attend on the 11th.\n Web opens the Zoom doors at 9:45 AM. Gathering begins at 10:00 AM.\nTo make a voluntary good will for honorarium and expenses\, contact\nJoe Clementi at jclementiphoto@gmail.com. \nA Program of: \n \n\n\n\n\n\n\n\n\n\n\n\n\n\n\n\n\n\n\n\n\n\n\n\n\n\n\n\n\n\n\n\n\n\n  \n  \n  \n  \n  \n\n\n\n\n\n\n\n\n\n\n\n\n\n\n\n\n\n\n\n\n\n\n\n\n\n\n\n\n
URL:https://www.brandywinepeace.com/event/2023-sacred-heart-gathering-for-peace-and-justice-the-moral-imperative-of-environmental-protection/
LOCATION:Sacred Heart Roman Catholic Church\, 1739 Ferry Avenue\, Camden\, NJ\, 08104\, United States
END:VEVENT
END:VCALENDAR