BEGIN:VCALENDAR
VERSION:2.0
PRODID:-//Brandywine Peace Community - ECPv5.1.4//NONSGML v1.0//EN
CALSCALE:GREGORIAN
METHOD:PUBLISH
X-WR-CALNAME:Brandywine Peace Community
X-ORIGINAL-URL:http://www.brandywinepeace.com
X-WR-CALDESC:Events for Brandywine Peace Community
BEGIN:VTIMEZONE
TZID:UTC
BEGIN:STANDARD
TZOFFSETFROM:+0000
TZOFFSETTO:+0000
TZNAME:UTC
DTSTART:20170101T000000
END:STANDARD
END:VTIMEZONE
BEGIN:VEVENT
DTSTART;TZID=UTC:20170407T190000
DTEND;TZID=UTC:20170407T213000
DTSTAMP:20260420T183435
CREATED:20170319T043438Z
LAST-MODIFIED:20170330T012530Z
UID:623-1491591600-1491600600@www.brandywinepeace.com
SUMMARY:THE VISITOR @Peace Center of Delaware County Free First-Fri. Film Series
DESCRIPTION:   \nFree First-Friday Film Series\, 1001 Old Sproul Rd.\, Springfield\, PA\n\nThe Visitor  2008. 104 min. Rated PG-13.  Written and directed by Tom McCarthy (Good Night\, and Good luck\, and his Oscar winning film\, Spotlight) \nA topical heartfelt film about people facing the human reality behind the immigration debate. CLICK HERE to watch the film’s trailer!   \nFor more information and directions.  Doors open at 6:30p.m. See film description and directions to the Peace Center\, www.delcopeacecenter.org \nDownloadable Flyer HERE. Please print and post! \n
URL:http://www.brandywinepeace.com/event/the-vistor-peace-center-of-delaware-county-free-first-fri-film-series/
LOCATION:Peace Center of Delaware County\, 1001 Old Sproul Road\, Springfield\, PA\, 19064\, United States
END:VEVENT
END:VCALENDAR