BEGIN:VCALENDAR
VERSION:2.0
PRODID:-//Brandywine Peace Community - ECPv5.1.4//NONSGML v1.0//EN
CALSCALE:GREGORIAN
METHOD:PUBLISH
X-WR-CALNAME:Brandywine Peace Community
X-ORIGINAL-URL:http://www.brandywinepeace.com
X-WR-CALDESC:Events for Brandywine Peace Community
BEGIN:VTIMEZONE
TZID:America/New_York
BEGIN:DAYLIGHT
TZOFFSETFROM:-0500
TZOFFSETTO:-0400
TZNAME:EDT
DTSTART:20230312T070000
END:DAYLIGHT
BEGIN:STANDARD
TZOFFSETFROM:-0400
TZOFFSETTO:-0500
TZNAME:EST
DTSTART:20231105T060000
END:STANDARD
END:VTIMEZONE
BEGIN:VEVENT
DTSTART;TZID=America/New_York:20230128T133000
DTEND;TZID=America/New_York:20230128T160000
DTSTAMP:20260421T033324
CREATED:20221202T160309Z
LAST-MODIFIED:20221202T160309Z
UID:2102-1674912600-1674921600@www.brandywinepeace.com
SUMMARY:“The Nuns\, the Priests and the Bombs” & 'Plowshares' Panel Discussion @Chestnut Hill College\, Germantown Ave.\, Phila.
DESCRIPTION: \nA Pressing Warning and Unremitting Hope for Humanity and our Planet!\n\nViewing of the Documentary\n“The Nuns\, the Priests and the Bombs”\nand Panel Discussion\n Saturday\, January 28\, 2023\, beginning at 1:30 pm\nin the East Parlor of St. Joseph Hall\, Chestnut Hill College\n9601 Germantown Avenue\, Philadelphia\, PA 19118\n  \nThe Institute for Forgiveness and Reconciliation at Chestnut Hill College\, and Catholic Peace Fellowship of Philadelphia\, are cohosting a free\, public viewing of a 2018 documentary titled\, The Nuns\, The Priests\, and The Bombs. The 87-minute film was written\, produced and directed by Helen Young\, an Emmy Award-winning\, broadcast journalist. It describes the existential\, nuclear threat facing humanity and our natural world. This threat has been heightened by the Russian-Ukrainian conflict. \n  \nThe film also explores the Plowshares movement.  The movement comprises religious sisters\, priests and laypeople who enter military installations to conduct nonviolent\, symbolic civil disobedience in protest of nuclear weaponry. Virtually all Plowshares activists experience imprisonment for their peaceful actions. \n  \nThe documentary viewing will be followed by a panel discussion and question and answer session.  Panel members will include some of the Plowshares activists who are featured in the film. The event will inform participants on the reality and immorality of the nuclear threat\, and help them explore avenues for actions they can take to promote nuclear disarmament. \n  \nReview the official trailer of the documentary here: https://www.youtube.com/watch?v=NoiVdO1HtDs \n\nLearn more about the documentary here: https://nunspriestsbombsthefilm.com/  \n\nFor further information about the January 28th event\, contact: Sister Catherine Nerney\, SSJ\, Ph.D. at nerneyc@gmail.com. \n  \n \nhttps://www.newyorker.com/magazine/2015/03/09/break-in-at-y-12 \n
URL:http://www.brandywinepeace.com/event/the-nuns-the-priests-and-the-bombs-plowshares-panel-discussion-chestnut-hill-college-germantown-ave-phila/
END:VEVENT
END:VCALENDAR