BEGIN:VCALENDAR
VERSION:2.0
PRODID:-//Brandywine Peace Community - ECPv5.1.4//NONSGML v1.0//EN
CALSCALE:GREGORIAN
METHOD:PUBLISH
X-WR-CALNAME:Brandywine Peace Community
X-ORIGINAL-URL:http://www.brandywinepeace.com
X-WR-CALDESC:Events for Brandywine Peace Community
BEGIN:VTIMEZONE
TZID:UTC
BEGIN:STANDARD
TZOFFSETFROM:+0000
TZOFFSETTO:+0000
TZNAME:UTC
DTSTART:20170101T000000
END:STANDARD
END:VTIMEZONE
BEGIN:VEVENT
DTSTART;TZID=UTC:20170602T190000
DTEND;TZID=UTC:20170602T213000
DTSTAMP:20260421T005907
CREATED:20170511T020633Z
LAST-MODIFIED:20170511T020633Z
UID:670-1496430000-1496439000@www.brandywinepeace.com
SUMMARY:TESTAMENT OF YOUTH at First-Fri. Free Film Series@Peace Center of Delaware County
DESCRIPTION:\n\n\n(2015\, PG-13 for thematic material including bloody and disturbing war related images\, 129 minutes. Directed by James Kent.  Screenplay by Juliette Towhidi based on the memoir\, Testament of Youth\, by Vera Brittain.  Stars Alicia Vikander\, Kit Harrington\, and Colin Morgan.)\n\n\n\nTestament of Youth is a powerful story of love\, remembrance\, and war. \nTold from a woman’s perspective\, the film chronicles the scars of World War I on a generation of English young people\,\n\n\nThe film begins with news of the World War 1 armistice of 1918 and quickly flashes back to the idyllic days four years before war’s outbreak. A young woman\, Vera Brittain (portrayed Alicia Vikander)\, is enjoying a rural swim with her beloved brother Edward (Taron Egerton) and their friend Victor (Colin Morgan).\n\nWhat follows is a searing journey from youthful hopes shattered by war\, and dreams pushed to the edge of despair and back again.\n\n\nBased on the World War I memoir\, Testament of Youth\, by Vera Brittain\, which became a bestseller in 1933 and a cornerstone of the post-war pacifist movement. \n\nDoors open at 6:30p.m. for light refreshments. For more information\, and/or directions\, see below or call 484-574-1148. Co-Sponsored by the Brandywine Peace Community.\n \n\n  \n
URL:http://www.brandywinepeace.com/event/testament-of-youth-at-first-fri-free-film-seriespeace-center-of-delaware-county/
LOCATION:Peace Center of Delaware County\, 1001 Old Sproul Road\, Springfield\, PA\, 19064\, United States
END:VEVENT
END:VCALENDAR