BEGIN:VCALENDAR
VERSION:2.0
PRODID:-//Brandywine Peace Community - ECPv5.1.4//NONSGML v1.0//EN
CALSCALE:GREGORIAN
METHOD:PUBLISH
X-WR-CALNAME:Brandywine Peace Community
X-ORIGINAL-URL:http://www.brandywinepeace.com
X-WR-CALDESC:Events for Brandywine Peace Community
BEGIN:VTIMEZONE
TZID:America/New_York
BEGIN:DAYLIGHT
TZOFFSETFROM:-0500
TZOFFSETTO:-0400
TZNAME:EDT
DTSTART:20220313T070000
END:DAYLIGHT
BEGIN:STANDARD
TZOFFSETFROM:-0400
TZOFFSETTO:-0500
TZNAME:EST
DTSTART:20221106T060000
END:STANDARD
END:VTIMEZONE
BEGIN:VEVENT
DTSTART;TZID=America/New_York:20221217T110000
DTEND;TZID=America/New_York:20221217T123000
DTSTAMP:20260421T033232
CREATED:20221207T182233Z
LAST-MODIFIED:20221207T182326Z
UID:2116-1671274800-1671280200@www.brandywinepeace.com
SUMMARY:Season of Peace “Reach-Out”  Says: DEFUSE NUCLEAR WAR; NO to NUKES on Germantown Ave.\, Chestnut Hill/Philadelphia.
DESCRIPTION:Saturday\, December 17 @11:00a.m. – 12:30p.m.\nSeason of Peace Neighborhood “Reach-Out”\, Germantown Ave. & Mermaid Lane\, Chestnut Hill/Philadelphia.\nSays: DEFUSE NUCLEAR WAR; NO to NUKES\n\n\n\n\n\n\n\n \n  \n  \n  \n  \n  \n  \n  \nIn a time of war\, as the threat of nuclear war looms daily like no other time in decades...\nWe say: Diplomacy is The Path to Peace; Stop the Killing; Avert Nuclear War.\nDEFUSE NUCLEAR WAR… Sight & Sound Reach-Outs Into Our Communities for Peace. www.defusenuclearwar.org\n\n\nSat.\, Dec. 17th\, Season of Peace Neighborhood “REACH-OUT”\, Chestnut Hill\, Philadelphia\, PA\, Germantown Ave. & Mermaid Lane (across from the Saturday Farmers Market.\n“Reach-Out”@Welcome to Chestnut Hill sign near the well traveled intersection/area at Cresheim Lane & Germantown Ave.\n \n\n\n\n\n\n \n  \n\n\nBANNERS\, POSTERS\, BELL-TOLLING. BRING YOUR FOLDING CHAIR IF YOU NEED TO SIT  THROUGHOUT  NEIGHBORHOOD “REACH-OUT”.\nQuestions? Call Bob at 215-843-4827. Dress for the weather\n\n\n\n\n\n\n
URL:http://www.brandywinepeace.com/event/season-of-peace-reach-out-says-defuse-nuclear-war-no-to-nukes-on-germantown-ave-chestnut-hill-philadelphia/
LOCATION:Chestnut Hill Circle\, 7673 Germantown Ave\,\, Philadelphia\, PA\, 19118\, United States
ORGANIZER;CN="Brandywine%20Peace%20Community":MAILTO:brandywine@juno.com
END:VEVENT
END:VCALENDAR