BEGIN:VCALENDAR
VERSION:2.0
PRODID:-//Brandywine Peace Community - ECPv5.1.4//NONSGML v1.0//EN
CALSCALE:GREGORIAN
METHOD:PUBLISH
X-WR-CALNAME:Brandywine Peace Community
X-ORIGINAL-URL:http://www.brandywinepeace.com
X-WR-CALDESC:Events for Brandywine Peace Community
BEGIN:VTIMEZONE
TZID:America/New_York
BEGIN:DAYLIGHT
TZOFFSETFROM:-0500
TZOFFSETTO:-0400
TZNAME:EDT
DTSTART:20220313T070000
END:DAYLIGHT
BEGIN:STANDARD
TZOFFSETFROM:-0400
TZOFFSETTO:-0500
TZNAME:EST
DTSTART:20221106T060000
END:STANDARD
END:VTIMEZONE
BEGIN:VEVENT
DTSTART;TZID=America/New_York:20221016T150000
DTEND;TZID=America/New_York:20221016T173000
DTSTAMP:20260421T051426
CREATED:20221004T162743Z
LAST-MODIFIED:20221004T162743Z
UID:2063-1665932400-1665941400@www.brandywinepeace.com
SUMMARY:Say NO to NUKES... Stand-Out/Sound-Off - Sight & Sound in front of WPVI- ABC Channel 6
DESCRIPTION:\n\n\n\nOctober Month Of Action – DEFUSE NUCLEAR WAR\n\nOctober 2022 marks the 60th anniversary of the Cuban Missile Crisis\, the closest the two nuclear superpowers ever came to nuclear war… until now.  https://defusenuclearwar.org/month-of-action\n\n\nSay NO to NUKES. Demand that attention be paid to the very real threat posed by nuclear weapons.\nSunday\, October 16\, 3p.m. – 5:30p.m.\n– Stand-Out/Sound-Off – Sight & Sound in front of WPVI- ABC Channel 6\, Corner of City & Monument Avenues.\nOne of the most well traveled areas in the Philadelphia area. Large Banners and Signs\, Bell-Tolling.\nCall Bob at 215-843-4827 for more information\n\n\n\n\n\n\n\n\n\n
URL:http://www.brandywinepeace.com/event/say-no-to-nukes-stand-out-sound-off-sight-sound-in-front-of-wpvi-abc-channel-6/
LOCATION:WPVI ABC channel6\, 4100 City Avenue\, Philadelphia\, 19131\, United States
ORGANIZER;CN="Brandywine%20Peace%20Community":MAILTO:brandywine@juno.com
END:VEVENT
END:VCALENDAR