BEGIN:VCALENDAR
VERSION:2.0
PRODID:-//Brandywine Peace Community - ECPv5.1.4//NONSGML v1.0//EN
CALSCALE:GREGORIAN
METHOD:PUBLISH
X-WR-CALNAME:Brandywine Peace Community
X-ORIGINAL-URL:http://www.brandywinepeace.com
X-WR-CALDESC:Events for Brandywine Peace Community
BEGIN:VTIMEZONE
TZID:America/New_York
BEGIN:DAYLIGHT
TZOFFSETFROM:-0500
TZOFFSETTO:-0400
TZNAME:EDT
DTSTART:20220313T070000
END:DAYLIGHT
BEGIN:STANDARD
TZOFFSETFROM:-0400
TZOFFSETTO:-0500
TZNAME:EST
DTSTART:20221106T060000
END:STANDARD
END:VTIMEZONE
BEGIN:VEVENT
DTSTART;TZID=America/New_York:20221111T100000
DTEND;TZID=America/New_York:20221111T120000
DTSTAMP:20260421T001344
CREATED:20221104T171132Z
LAST-MODIFIED:20221111T102920Z
UID:2089-1668160800-1668168000@www.brandywinepeace.com
SUMMARY:RECLAIM "ARMISTICE DAY" DEFUSE NUCLEAR WAR\, PHILA.\, PA\, 6th & Market Sts.
DESCRIPTION:a note to participants\nComing to the RECLAIM ARMISTICE Day Vigil & Bell-Tolling (see below)?  You’ve probably heard tomorrow’s weather forecast for Philadelphia.  It calls for warm temperatures\, some winds\, and morning showers while we’re in front of the Federal Building in the morning. There is a slight building overhang that in  demonstrations over the years has provided some protection from the rain. Nonetheless\, if you’ll be there tomorrow morning\, you should dress accordingly and bring an umbrella.  Also\, bring your folding chair if you wish to sit. See you later this morning if you can make it.  Remember\, concern about your health is primary. Peace\, bob\n  \n \n \n  \n…”After World War II\, the U.S. Congress decided to rebrand November 11 as Veterans Day. Honoring the warrior quickly morphed into honoring the military and glorifying war. Armistice Day was flipped from a day for peace into a day for displays of militarism”…”Over one hundred years ago the world celebrated peace as a universal principle. The first World War had just ended and nations mourning their dead collectively called for an end to all wars. Armistice Day was born and was designated as “a day to be dedicated to the cause of world peace and to be thereafter celebrated.” “…After World War II\, the U.S. Congress decided to rebrand November 11 as Veterans Day. Honoring the warrior quickly morphed into honoring the military and glorifying war. Armistice Day was flipped from a day for peace into a day for displays of militarism\n(from Veterans for Peace national website\, https://www.veteransforpeace.org)\n Be sure to read: https://www.veteransforpeace.org/take-action/armistice-day\nEleventh Hour of the Eleventh Day of the Eleventh Month…ARMISTICE DAY\nNOVEMBER 11\, 10A.M.\, PHILADELPHIA\, OLE CITY\, 6TH & MARKET STREET\,\nPHILADELPHIA FEDERAL COURTHOUSE \, ACROSS FROM LIBERTY BELL AND INDEPENDENCE HALL\nRECLAIM ARMISTICE DAY – VIGIL FOR PEACE\, BANNERS\, READINGS\, \nBELL-TOLLING BEGINS  AT  11A.M.\nNUCLEAR WEAPONS ARE THE ULTIMATE EXPRESSION OF MILITARISM!\nRECLAIM ARMISTICE DAY…DEFUSE NUCLEAR WAR. SAY NO TO NUKES\n \n \nwww.DefuseNuclearWar.org \n
URL:http://www.brandywinepeace.com/event/reclaim-armistice-day-defuse-nuclear-war-phila-pa-6th-market-sts/
LOCATION:Phila Federal Building\, 601 Market Street\, Philadelphia\, 19106\, United States
END:VEVENT
END:VCALENDAR