BEGIN:VCALENDAR
VERSION:2.0
PRODID:-//Brandywine Peace Community - ECPv5.1.4//NONSGML v1.0//EN
CALSCALE:GREGORIAN
METHOD:PUBLISH
X-WR-CALNAME:Brandywine Peace Community
X-ORIGINAL-URL:http://www.brandywinepeace.com
X-WR-CALDESC:Events for Brandywine Peace Community
BEGIN:VTIMEZONE
TZID:America/New_York
BEGIN:DAYLIGHT
TZOFFSETFROM:-0500
TZOFFSETTO:-0400
TZNAME:EDT
DTSTART:20150308T070000
END:DAYLIGHT
BEGIN:STANDARD
TZOFFSETFROM:-0400
TZOFFSETTO:-0500
TZNAME:EST
DTSTART:20151101T060000
END:STANDARD
END:VTIMEZONE
BEGIN:VEVENT
DTSTART;TZID=America/New_York:20150423T120000
DTEND;TZID=America/New_York:20150423T160000
DTSTAMP:20260421T165251
CREATED:20150409T001939Z
LAST-MODIFIED:20150411T081443Z
UID:221-1429790400-1429804800@www.brandywinepeace.com
SUMMARY:Protest UPenn's  Drone Research - Opening Day of Penn Relays!
DESCRIPTION:\nProtest University of Pennsylvania’s  Drone Research on the Opening Day of the Penn Relays!  \n\nThurs.\, April 23\, Noon – 4p.m.\, 34th & Walnut Streets\, Phila.\, PA 19104 \n \nThousands from around the world will be at UPenn for these historic games.  And will hear our message!\n\n\n\nUPenn has a high level engineering lab\, the GRASP [General Robotics\, Automation\, Sensing and Perception] Lab\, that continues to research and develop drone technology\, funded by the Pentagon for drone warfare.  Few people know about it\, and should. \n\nYoung people\, and their families\, come from many parts of the country and around the world to watch and participate in the Penn Relays.  People need to know what is going on at Penn besides the games.  They need to know about the research work being done at UPenn that is the starting point for drone killing.\n\n\n\nWe’ve been at UPenn before during the Penn Relays\, amidst the huge crowds\, with signs\, banners\, and leaflets  We’ll be there again. 34th and Walnut St. on Thursday\, April 23\, from Noon to 4:00 p.m.  \n\n\nPlease come out for any period of time you can\, but especially between Noon to 2:00p.m. when there is heavy pedestrian traffic.\n    \nBrandywine Peace Community and the Drone Death Walk\n
URL:http://www.brandywinepeace.com/event/protest-upenns-drone-research-opening-day-of-penn-relays/
END:VEVENT
END:VCALENDAR