BEGIN:VCALENDAR
VERSION:2.0
PRODID:-//Brandywine Peace Community - ECPv5.1.4//NONSGML v1.0//EN
CALSCALE:GREGORIAN
METHOD:PUBLISH
X-WR-CALNAME:Brandywine Peace Community
X-ORIGINAL-URL:http://www.brandywinepeace.com
X-WR-CALDESC:Events for Brandywine Peace Community
BEGIN:VTIMEZONE
TZID:UTC
BEGIN:STANDARD
TZOFFSETFROM:+0000
TZOFFSETTO:+0000
TZNAME:UTC
DTSTART:20170101T000000
END:STANDARD
END:VTIMEZONE
BEGIN:VEVENT
DTSTART;TZID=UTC:20170414T160000
DTEND;TZID=UTC:20170414T170000
DTSTAMP:20260421T131701
CREATED:20170329T202722Z
LAST-MODIFIED:20170329T202722Z
UID:637-1492185600-1492189200@www.brandywinepeace.com
SUMMARY:Philly Anti-War 'Reach-Out' CANCELED due to Good Friday Stations for Justice & Peace
DESCRIPTION:Philly Anti-War ‘Reach-Out’ CANCELED due to Good Friday Stations for Justice & Peace  at Lockheed Martin. Won’t you join us!?\nThe next monthly (2nd Friday of the month) will be on May 12\, 4p.m.\, at 30th & Market St. Train Station. \nThe Philly Anti-War Reach-Outs\,  2nd Friday of the month\, with mass leafleting\, banners\, signs\, literature table with goodies\, alternate between the 30th Street Train Station and the SEPTA entrance at 15th & Market Streets.  Your presence and participation makes all the difference \n
URL:http://www.brandywinepeace.com/event/philly-anti-war-reach-out-canceled-due-to-good-friday-stations-for-justice-peace/
LOCATION:30th Street Train Station\, 30th & Market Streets\, Philadelphia\, PA\, 19104\, United States
END:VEVENT
END:VCALENDAR