BEGIN:VCALENDAR
VERSION:2.0
PRODID:-//Brandywine Peace Community - ECPv5.1.4//NONSGML v1.0//EN
CALSCALE:GREGORIAN
METHOD:PUBLISH
X-WR-CALNAME:Brandywine Peace Community
X-ORIGINAL-URL:http://www.brandywinepeace.com
X-WR-CALDESC:Events for Brandywine Peace Community
BEGIN:VTIMEZONE
TZID:America/New_York
BEGIN:DAYLIGHT
TZOFFSETFROM:-0500
TZOFFSETTO:-0400
TZNAME:EDT
DTSTART:20150308T070000
END:DAYLIGHT
BEGIN:STANDARD
TZOFFSETFROM:-0400
TZOFFSETTO:-0500
TZNAME:EST
DTSTART:20151101T060000
END:STANDARD
END:VTIMEZONE
BEGIN:VEVENT
DTSTART;TZID=America/New_York:20150704T100000
DTEND;TZID=America/New_York:20150704T120000
DTSTAMP:20260421T005735
CREATED:20150604T004807Z
LAST-MODIFIED:20150604T004807Z
UID:269-1436004000-1436011200@www.brandywinepeace.com
SUMMARY:Phila. Olde City 4th of July Parade - STOP DRONE WARFARE & SPYING
DESCRIPTION:STOP DRONE WARFARE & SPYING\n\nSaturday\, 4th of July\, Olde City Philadelphia – Join us during the Olde City July 4th parade\, as it passes in front of Phila. Federal Courhouse.\nProtest today’s shadow of death across our constitutional rights and independence: drone warfare and spying. Hold up posters provided with the shadow of a drone across the constitution and the message Stop Drone Warfare & Spying\, along with drone silhouettes on poles and large banners\n\n\nParade passes in front of Phila. Federal Building Courthouse with floats and red\, white\, and blue pageantry\,  cheers of thousands and waving flags after stepping off from Independence Hall.\nsee http://www.visitphilly.com/events/philadelphia/independence-day-parade-july-4th-in-philadelphia/\n\nNote that this year’s opening ceremony commemorates the 50th anniversary of the first major LGBTQ protest in the United States\, and the 50th anniversary of the Voting Rights Act of 1965.\n\nWe celebrate that legacy of dissent by practicing it.\nWhat better day\, Independence Day\, and what better place than Philadelphia to do just that.\n\nBeginning at 10:o0a.m.\, gather in front of the Phila. Federal Courthouse\, 601 Market Street. Get there early and take your place in line. \n\n
URL:http://www.brandywinepeace.com/event/phila-olde-city-4th-of-july-parade-stop-drone-warfare-spying/
END:VEVENT
END:VCALENDAR