BEGIN:VCALENDAR
VERSION:2.0
PRODID:-//Brandywine Peace Community - ECPv5.1.4//NONSGML v1.0//EN
CALSCALE:GREGORIAN
METHOD:PUBLISH
X-WR-CALNAME:Brandywine Peace Community
X-ORIGINAL-URL:http://www.brandywinepeace.com
X-WR-CALDESC:Events for Brandywine Peace Community
BEGIN:VTIMEZONE
TZID:America/New_York
BEGIN:DAYLIGHT
TZOFFSETFROM:-0500
TZOFFSETTO:-0400
TZNAME:EDT
DTSTART:20150308T070000
END:DAYLIGHT
BEGIN:STANDARD
TZOFFSETFROM:-0400
TZOFFSETTO:-0500
TZNAME:EST
DTSTART:20151101T060000
END:STANDARD
END:VTIMEZONE
BEGIN:VEVENT
DTSTART;TZID=America/New_York:20150404T120000
DTEND;TZID=America/New_York:20150404T130000
DTSTAMP:20260421T195635
CREATED:20150402T160313Z
LAST-MODIFIED:20150402T160458Z
UID:211-1428148800-1428152400@www.brandywinepeace.com
SUMMARY:Phila. Center City Anti-War/Anti-Drone Silent Death Walk/Vigil
DESCRIPTION:\n\nCenter City Anti-War/Anti-Drone Silent Death Walk/Vigil \nPHILA.: Gather at 12th & Market Sts. Wear back. Signs and white masks provided  Please RSVP Marge Van Cleef at 203-804-3013.  \nIf you arrive more than 5 minutes after 12 noon\, please either call Marge  or come down 12th St. toward Reading Terminal Market. We will gather on the corner of either Filbert and 12th or Arch St. and 12th. \n \nWhile walking in the manner of a SILENT DEATH WALK we bring attention to the wars and the victims in Afghanistan\, Pakistan\, Yemen\, Gaza\, Iraq\, Syria and other countries where drones are used for surveillance and warfare. This is street theater\, thus we keep to the form of single file\, silence\, masks and black clothing. Our leaflet is intended to educate the public on U.S. drone warfare.  \n“Drone war is the most extreme terrorist war in history.”  – Noam Chomsky\, Sept 2013\n\n\n\n \n\n\n  \n\n\n
URL:http://www.brandywinepeace.com/event/phila-center-city-anti-waranti-drone-silent-death-walkvigil-3/
LOCATION:Drone Death Walk\, 12TH & Market Streets\, Philadelphia\, PA\, 19107\, United States
END:VEVENT
END:VCALENDAR