BEGIN:VCALENDAR
VERSION:2.0
PRODID:-//Brandywine Peace Community - ECPv5.1.4//NONSGML v1.0//EN
CALSCALE:GREGORIAN
METHOD:PUBLISH
X-WR-CALNAME:Brandywine Peace Community
X-ORIGINAL-URL:http://www.brandywinepeace.com
X-WR-CALDESC:Events for Brandywine Peace Community
BEGIN:VTIMEZONE
TZID:America/New_York
BEGIN:DAYLIGHT
TZOFFSETFROM:-0500
TZOFFSETTO:-0400
TZNAME:EDT
DTSTART:20150308T070000
END:DAYLIGHT
BEGIN:STANDARD
TZOFFSETFROM:-0400
TZOFFSETTO:-0500
TZNAME:EST
DTSTART:20151101T060000
END:STANDARD
END:VTIMEZONE
BEGIN:VEVENT
DTSTART;TZID=America/New_York:20150307T120000
DTEND;TZID=America/New_York:20150307T130000
DTSTAMP:20260422T043416
CREATED:20150301T212429Z
LAST-MODIFIED:20150301T212429Z
UID:160-1425729600-1425733200@www.brandywinepeace.com
SUMMARY:Phila. Center City Anti-War/Anti-Drone Silent Death Walk/Vigil
DESCRIPTION:\nCenter City Anti-War/Anti-Drone Silent Death Walk/Vigil \nPHILA.: Gather at 12th & Market Sts. Wear back. Signs and white masks provided  Please RSVP Marge Van Cleef at 203-804-3013.  \nIf you arrive more than 5 minutes after 12 noon\, please either call Marge  or come down 12th St. toward Reading Terminal Market. We will gather on the corner of either Filbert and 12th or Arch St. and 12th. \n \n\n
URL:http://www.brandywinepeace.com/event/phila-center-city-anti-waranti-drone-silent-death-walkvigil-2/
LOCATION:Drone Death Walk\, 12TH & Market Streets\, Philadelphia\, PA\, 19107\, United States
END:VEVENT
END:VCALENDAR