BEGIN:VCALENDAR
VERSION:2.0
PRODID:-//Brandywine Peace Community - ECPv5.1.4//NONSGML v1.0//EN
CALSCALE:GREGORIAN
METHOD:PUBLISH
X-WR-CALNAME:Brandywine Peace Community
X-ORIGINAL-URL:http://www.brandywinepeace.com
X-WR-CALDESC:Events for Brandywine Peace Community
BEGIN:VTIMEZONE
TZID:UTC
BEGIN:STANDARD
TZOFFSETFROM:+0000
TZOFFSETTO:+0000
TZNAME:UTC
DTSTART:20170101T000000
END:STANDARD
END:VTIMEZONE
BEGIN:VEVENT
DTSTART;TZID=UTC:20170505T190000
DTEND;TZID=UTC:20170505T210000
DTSTAMP:20260420T200423
CREATED:20170501T125415Z
LAST-MODIFIED:20170501T125415Z
UID:662-1494010800-1494018000@www.brandywinepeace.com
SUMMARY:NO GOD  NO MASTER @Peace Center of Delaware County Free First-Fri. Film Series
DESCRIPTION:Free First-Friday Film Series at Peace Center of Delaware County\, 1001 Old Sproul Rd.\, Springfield\, PA \n Friday\, May 5th\, 2017\, 7 p.m. (doors open at 6:30p.m. for light refreshments)\n \n No God No Master \n2013\, PG-13 for violence. Historical Drama.  Written and directed by Terry Green\, staring David Strathairn. \nBased on true events\, NO GOD  NO MASTER is a timely drama with resoundingly similar parallels to today’s suspension of civil liberties frequently employed in today’s war on terrorism. Hundreds of immigrants suspected of leftist ties were indeed deported in the period immediately after World War One. \nWhen a series of package bombs show up on the doorsteps of prominent politicians\, industrialists\, and bankers\, in the summer of 1919\, the U.S. Bureau of Investigation assigns Agent William Flynn the task of finding those responsible. Flynn (portrayed by Oscar nominated David Strathairn) becomes immersed in the investigation which ends up uncovering both an  anarchist plot as well as the  infamous “Palmer Raids” on anarchists by Attorney General  A. Michell Palmer: “Freedom isn’t a right; it’s a commodity\,” states Palmer. \n  \n \n“COMPELLING… NO GOD\, NO MASTER RE-CREATES ITS PERIOD MILIEU WITH A VIVID REALISM… THE FILM RELATES ITS IMPORTANT AND SADLY TOO-LITTLE-KNOWN STORY WITH SKILL AND EFFICIENCY. THE FASCINATING SUBJECT MATTER GAINS RESONANCE WITH ITS MODERN-DAY PARALLELS TO THE WAR ON TERRORISM.” – THE HOLLYWOOD REPORTER\n\n \n\n\n\n\n\n\n\n\n
URL:http://www.brandywinepeace.com/event/no-god-no-master-peace-center-of-delaware-county-free-first-fri-film-series/
LOCATION:Peace Center of Delaware County\, 1001 Old Sproul Road\, Springfield\, PA 19064.\, PA\, 19064\, United States
END:VEVENT
END:VCALENDAR