BEGIN:VCALENDAR
VERSION:2.0
PRODID:-//Brandywine Peace Community - ECPv5.1.4//NONSGML v1.0//EN
CALSCALE:GREGORIAN
METHOD:PUBLISH
X-WR-CALNAME:Brandywine Peace Community
X-ORIGINAL-URL:http://www.brandywinepeace.com
X-WR-CALDESC:Events for Brandywine Peace Community
BEGIN:VTIMEZONE
TZID:America/New_York
BEGIN:DAYLIGHT
TZOFFSETFROM:-0500
TZOFFSETTO:-0400
TZNAME:EDT
DTSTART:20150308T070000
END:DAYLIGHT
BEGIN:STANDARD
TZOFFSETFROM:-0400
TZOFFSETTO:-0500
TZNAME:EST
DTSTART:20151101T060000
END:STANDARD
END:VTIMEZONE
BEGIN:VEVENT
DTSTART;TZID=America/New_York:20150809T073000
DTEND;TZID=America/New_York:20150809T210000
DTSTAMP:20260420T185804
CREATED:20150722T194424Z
LAST-MODIFIED:20150722T194424Z
UID:303-1439105400-1439154000@www.brandywinepeace.com
SUMMARY:Nagasaki Day Sundown Peace Ceremony to Abolish Nuclear Weapons in celebration of Pope Francis' visit to Philadelphia
DESCRIPTION:Nagasaki\, August 9\, 1945\nhttps://consortiumnews.com/2014/08/09/the-very-un-christian-nagasaki-bomb/\nSun.\, August 9\, 2015\, Nagasaki Day\, 7:30p.m. – Sundown Peace Ceremony to Abolish Nuclear Weapons (nothing less!) and celebrate the visit of Pope Francis to the Philadelphia.\nMarket Street Bridge\, corner of Market Street and Schuylkill Ave.\, across from 30th Street Station (east side).\nBring an umbrella in the event of rain.\nMourn the nuclear world. Celebrate Pope Francis’ visit to Philadelphia (Sept. 26 – 27)  and his call for the abolition of all nuclear weapons.\nAugust 9\, 1945\, Nagasaki\, Ground Zero\, St. Mary’s Urakami Catholic Cathedral.  The world’s second atomic bombing destroyed the largest Catholic population in all of Asia.\nNo more Hiroshimas  No More Nagasakis   Abolish Nuclear Weapons\nhttp://www.catholicnews.com/data/stories/cns/1405084.htm\nhttp://time.com/3817021/pope-francis-nuclear-disarmament/\nMore information\, e-mail: brandywine@juno.com or call (610) 544-1818.\n
URL:http://www.brandywinepeace.com/event/nagasaki-day-sundown-peace-ceremony-to-abolish-nuclear-weapons-in-celebration-of-pope-francis-visit-to-philadelphia/
LOCATION:Market Street Bridge\, Market Street & Schuylkill Ave\, Philadelphia\, PA\, 19104\, United States
ORGANIZER;CN="Brandywine%20Peace%20Community":MAILTO:brandywine@juno.com
END:VEVENT
END:VCALENDAR