BEGIN:VCALENDAR
VERSION:2.0
PRODID:-//Brandywine Peace Community - ECPv5.1.4//NONSGML v1.0//EN
CALSCALE:GREGORIAN
METHOD:PUBLISH
X-WR-CALNAME:Brandywine Peace Community
X-ORIGINAL-URL:http://www.brandywinepeace.com
X-WR-CALDESC:Events for Brandywine Peace Community
BEGIN:VTIMEZONE
TZID:UTC
BEGIN:STANDARD
TZOFFSETFROM:+0000
TZOFFSETTO:+0000
TZNAME:UTC
DTSTART:20170101T000000
END:STANDARD
END:VTIMEZONE
BEGIN:VEVENT
DTSTART;TZID=UTC:20170414T120000
DTEND;TZID=UTC:20170414T140000
DTSTAMP:20260420T201708
CREATED:20170319T055450Z
LAST-MODIFIED:20170319T162823Z
UID:625-1492171200-1492178400@www.brandywinepeace.com
SUMMARY:Good Friday Stations of Justice & Peace at Lockheed Martin\, King of Prussia
DESCRIPTION:\n\nGood Friday Stations of Justice & Peace 2016: Peace activists protesting outside Lockeed Martin in King of Prussia. (Credit: Steve Tawa) \n\nLet us pray that we will break the chains of violence\, fear and war; that we may resist war-making and stop Lockheed Martin and Donald Trump with acts of justice and Jesus’ love.  May the cross\, which over time was transformed from a means of violence to a symbol of liberation and peace\, be our symbol of nonviolence and justice\, a sign of nonviolent resistance to greed\, militarism\, empire\, violation of the earth\, hatred\, and war.\nIGNITE PEACE…A Prayer for Trump\nGood Friday 2017 at Lockheed Martin in King of Prussia\, PA.\nApril 14\, Noon – Good Friday Stations of Justice\, Peace\, and Nonviolent Resistance to Lockheed Martin.  Mall & Goddard Boulevards\, King of Prussia\, PA (directly behind the King of Prussia Mall\, and across from the UA King of Prussia movieplex).  Bring an umbrella in case of rain.\n\nLockheed Martin\, the world’s largest war profiteer and the United States’ chief Pentagon contractor (more than $40 billion annually)  producer of nuclear weapons and missile systems\, AEGIS guided missiles cruisers and anti-ballistic missile technology\, and the F-35 Joint Strike Stealth Fighter\,  the most expensive weapons system in human history.  Lockheed Martin is also among the chief manufacturers of drone warfare technology: the remote-controlled planes\, the Hellfire missiles they fire\, and the space-based satellites which control the drones from the continental U.S. in targeting killing against people thousands of miles away.\n\n\nNonviolence discipline for participants\, http://www.brandywinepeace.com/nonviolence.html .\nCall the Brandywine Peace Community\, (484) 574-1148\, by April 10 if you are interested in participating in the nonviolent resistance/civil disobedience and willing to face arrest.  There will be an on-site meeting at 11a.m. for those planning on doing the civil disobedience.\n\n
URL:http://www.brandywinepeace.com/event/good-friday-stations-of-justice-peace-at-lockheed-martin-king-of-prussia/
LOCATION:Lockheed Martin\, King of Prussia PA\, 230 Mall Boulevard\, King of Prussia\, PA\, 19406\, United States
ORGANIZER;CN="Brandywine%20Peace%20Community":MAILTO:brandywine@juno.com
END:VEVENT
END:VCALENDAR