BEGIN:VCALENDAR
VERSION:2.0
PRODID:-//Brandywine Peace Community - ECPv5.1.4//NONSGML v1.0//EN
CALSCALE:GREGORIAN
METHOD:PUBLISH
X-WR-CALNAME:Brandywine Peace Community
X-ORIGINAL-URL:http://www.brandywinepeace.com
X-WR-CALDESC:Events for Brandywine Peace Community
BEGIN:VTIMEZONE
TZID:America/New_York
BEGIN:DAYLIGHT
TZOFFSETFROM:-0500
TZOFFSETTO:-0400
TZNAME:EDT
DTSTART:20220313T070000
END:DAYLIGHT
BEGIN:STANDARD
TZOFFSETFROM:-0400
TZOFFSETTO:-0500
TZNAME:EST
DTSTART:20221106T060000
END:STANDARD
END:VTIMEZONE
BEGIN:VEVENT
DTSTART;TZID=America/New_York:20221014T170000
DTEND;TZID=America/New_York:20221014T180000
DTSTAMP:20260421T033513
CREATED:20221004T195152Z
LAST-MODIFIED:20221004T200607Z
UID:2065-1665766800-1665770400@www.brandywinepeace.com
SUMMARY:DEFUSE NUCLEAR WAR...Gather at PA Senator Robert Casey’s office in Phila. for an informational picket. Call your Representatives in the U.S. House and the Senate.
DESCRIPTION:\n\n\n\n\n\nOctober 2022 marks the 60th anniversary of the Cuban Missile Crisis\, the closest the two nuclear superpowers ever came to nuclear war… until now.  https://defusenuclearwar.org/month-of-action \n\n\n\n\n\n\n\n\n\n\nOctober Month Of Action – DEFUSE NUCLEAR WAR\nCall on your Congressional Representatives in the House and the Senate to significantly reduce the risk of nuclear war.\nFriday October 14\, 5:00pm – 6:00pm\, PA Senator Bob Casey’s Office 2000 Market St Suite 610\, Philadelphia\, PA 19102\n\nGather in front of Senator Casey’s office for an informational picket. (And possibly the offices of some of our Congressional Reps. Let us know if you can organize something with us) — emphasis will be on actions that the U.S. government should take now to reduce the present-day risks of nuclear war. In the House of Representatives we will support the People Over Pentagon Act\, H.R.8040.\n\nPlease Contact David at Peace Justice Sustainability NOW at 610-220-0223 to help.\nhttps://www.facebook.com/PJSN2/\n  \n\n\n  \n \n\nVisit Event Page on Facebook \n\n\n
URL:http://www.brandywinepeace.com/event/gather-at-pa-senator-robert-caseys-office-in-phila-for-an-informational-picket-call-your-representatives-in-the-u-s-house-and-the-senate/
LOCATION:Casey’s Office 2000 Market St Suite 610\, Philadelphia\, PA 19102\, 2000 Market St. Suite 610\, Philadelphia\, PA\, 19102\, United States
END:VEVENT
END:VCALENDAR