BEGIN:VCALENDAR
VERSION:2.0
PRODID:-//Brandywine Peace Community - ECPv5.1.4//NONSGML v1.0//EN
CALSCALE:GREGORIAN
METHOD:PUBLISH
X-WR-CALNAME:Brandywine Peace Community
X-ORIGINAL-URL:http://www.brandywinepeace.com
X-WR-CALDESC:Events for Brandywine Peace Community
BEGIN:VTIMEZONE
TZID:America/New_York
BEGIN:DAYLIGHT
TZOFFSETFROM:-0500
TZOFFSETTO:-0400
TZNAME:EDT
DTSTART:20150308T070000
END:DAYLIGHT
BEGIN:STANDARD
TZOFFSETFROM:-0400
TZOFFSETTO:-0500
TZNAME:EST
DTSTART:20151101T060000
END:STANDARD
END:VTIMEZONE
BEGIN:VEVENT
DTSTART;TZID=America/New_York:20150206T190000
DTEND;TZID=America/New_York:20150206T210000
DTSTAMP:20260422T153141
CREATED:20150203T003309Z
LAST-MODIFIED:20150203T004455Z
UID:123-1423249200-1423256400@www.brandywinepeace.com
SUMMARY:First-Friday Free Movie\, FREE ANGELA & ALL POLITICAL PRISONERS
DESCRIPTION:FREE ANGELA & ALL POLITICAL PRISONERS \n2013\, Not Rated\, 1 hour 40 minutes\n\nHow did a young African-American college professor at UCLA become a fugitive on the FBI’s Most Wanted list and Political Prisoner during the social turbulence of nearly a half century ago?  This acclaimed documentary by award-winning film maker\, Shola Lynch\, tells the story of Angela Davis…Revolutionary scholar\, philosopher\, activist icon\,  African-American Feminist.\nHonoring Black History Month \nThe film features interviews with Angela Davis as well as eyewitnesses to her trial and imprisonment\, life and teaching\, then and now.  The  film inter-cuts stock footage\, present-day recollections\, and seamless re-creations of events to evoke an immediate sense of time and place.\nYou may know the name of Angela Davis and her struggle for racial justice. But do you really know her whole story and its relevance for  today?  That is the story behind FREE ANGELA & ALL POLITICAL PRISONERS.\n\n\nDoors open at 6:30p.m. for light refreshments.\n\n\n\nFor more information and directions\, http://www.delcopeacecenter.org/ \nor call 610-544-1818.  Co-sponsored by the Brandywine Peace Community.  \nShort after film discussion\, optional.\n\n
URL:http://www.brandywinepeace.com/event/first-friday-movie-free-angela-all-political-prisoners/
LOCATION:Peace Center of Delaware County\, 1001 Old Sproul Road\, Springfield\, PA 19064.\, PA\, 19064\, United States
END:VEVENT
END:VCALENDAR