BEGIN:VCALENDAR
VERSION:2.0
PRODID:-//Brandywine Peace Community - ECPv5.1.4//NONSGML v1.0//EN
CALSCALE:GREGORIAN
METHOD:PUBLISH
X-WR-CALNAME:Brandywine Peace Community
X-ORIGINAL-URL:http://www.brandywinepeace.com
X-WR-CALDESC:Events for Brandywine Peace Community
BEGIN:VTIMEZONE
TZID:America/New_York
BEGIN:DAYLIGHT
TZOFFSETFROM:-0500
TZOFFSETTO:-0400
TZNAME:EDT
DTSTART:20150308T070000
END:DAYLIGHT
BEGIN:STANDARD
TZOFFSETFROM:-0400
TZOFFSETTO:-0500
TZNAME:EST
DTSTART:20151101T060000
END:STANDARD
END:VTIMEZONE
BEGIN:VEVENT
DTSTART;TZID=America/New_York:20150403T190000
DTEND;TZID=America/New_York:20150403T202500
DTSTAMP:20260421T195513
CREATED:20150319T234933Z
LAST-MODIFIED:20150319T234933Z
UID:200-1428087600-1428092700@www.brandywinepeace.com
SUMMARY:First-Friday Free Large Screen Film Series – Oscar Winner "Best Foreign Film"\, IDA
DESCRIPTION:Peace Center of Delaware County\n\nFirst-Friday Free Large Screen Film Series\, at  7p.m.\n\n1001 Old Sproul Road\, Springfield\, PA 19064.\nDoors open at 6:30p.m. for light refreshments. After-film discussion.\n\nFri.\, April 3\, at 7p.m. – IDA   2015 Oscar Winner “Best Foreign Winner”\n(Polish\, 2014. Directed Pawel Pawlikowski; written by Pawlikowski and Rebecca Lenkiewicz.  PG-13 for thematic elements\, some sexuality.  Black & White.  1hour\, 20mins.  English subtitles)\n\nSet in 1962 Poland\, IDA depicts a young woman on the verge of taking her final vows to become a Catholic nun.  Orphaned as an infant during World War II and the German occupation of Poland\,  she finds out that she is Jewish  and her Jewish parents were murdered by the Nazis during the Holocaust.  Her discovery triggers a journey into the repressed secrets of the past during the equally repressive postwar Communism.  Ida’s story carries the weight of history\,  bringing together momentous historic events and a young woman’s coming-of-age discoveries\n\n\n\n\nFor more information and directions\, http://www.delcopeacecenter.org/  \n\nor call (610) 544-1818.  Co-Sponsored by Brandywine Peace Community.  Short post-screening discussion optional\n\n
URL:http://www.brandywinepeace.com/event/first-friday-free-large-screen-film-series-oscar-winner-best-foreign-film-ida/
LOCATION:Peace Center of Delaware County\, 1001 Old Sproul Road\, Springfield\, PA\, 19064\, United States
END:VEVENT
END:VCALENDAR