BEGIN:VCALENDAR
VERSION:2.0
PRODID:-//Brandywine Peace Community - ECPv5.1.4//NONSGML v1.0//EN
CALSCALE:GREGORIAN
METHOD:PUBLISH
X-WR-CALNAME:Brandywine Peace Community
X-ORIGINAL-URL:http://www.brandywinepeace.com
X-WR-CALDESC:Events for Brandywine Peace Community
BEGIN:VTIMEZONE
TZID:America/New_York
BEGIN:DAYLIGHT
TZOFFSETFROM:-0500
TZOFFSETTO:-0400
TZNAME:EDT
DTSTART:20150308T070000
END:DAYLIGHT
BEGIN:STANDARD
TZOFFSETFROM:-0400
TZOFFSETTO:-0500
TZNAME:EST
DTSTART:20151101T060000
END:STANDARD
END:VTIMEZONE
BEGIN:VEVENT
DTSTART;TZID=America/New_York:20150328T120000
DTEND;TZID=America/New_York:20150328T140000
DTSTAMP:20260421T232825
CREATED:20150306T032544Z
LAST-MODIFIED:20150306T032544Z
UID:178-1427544000-1427551200@www.brandywinepeace.com
SUMMARY:Demonstration at Horsham PA Air Guard to Protest Drone War Command Center
DESCRIPTION:Sat.\, March 28\, Noon – 2p.m. -Demonstration to Protest the Drone War Command Center at the Horsham Air Guard Station. \nRoute 611/Easton Road and County Line Road\, in Horsham\, PA. \nSee directions and map below.\nRecommended parking in the Regal Cinemas Warrington Crossing on Rout 611 just beyond County Line Road.\n\nSince April 2013\, and the announcement that a drone war command center was planned for the Horsham PA Air Guard Station\, there have been focused protests at the base as well as other events throughout the region.  After a two month winter pause (January – February 2015)\, these demonstrations continue the last Saturday of the Month\, Noon – 2p.m.\n\nJoin the campaign to stop the drone war command center in Horsham which is due to be fully operation this year\, 2015.\n\nNonviolence Discipline\n\nTo assist in the unity of demonstration participants\, and to project justice\, our humanity\, and moral message:\n1. We will not carry weapons.\n2. We will not vandalize or destroy property.\n3. We will not use or carry alcohol or illegal drugs.\n4. We will not run or make threatening motions.\n5. We will not insult\, swear at\, or attack anyone\, refraining\, in the words of Dr. Martin Luther King\, Jr.\, from “the violence of fist\, tongue\, or heart.”\n6. We will not assault\, verbally or physically\, those who oppose or disagree with us.\n7. Our attitude\, conveyed through our words\, symbols and actions\, will be one of peace\, openness\, and respect toward everyone.\n8. We will remain focused on the message of the demonstration\, cooperate with the planning of the demonstration\, and help maintain its nonviolent discipline.\n9. If an individual has a serious disagreement with the organizers of the action that cannot be resolved\, the individual will withdraw from the action.\n10. We will maintain — in word and deed — our nonviolent resolve for peace and justice.\n\n\nInitiated by the Brandywine Peace Community and the American Friends Service Committee\, the nonviolent campaign to stop the drone war command center has the endorsement of a growing list of groups and activists: Bryn Mawr Peace Coalition; BuxMont Coalition for Peace Action; Catholic Peace Fellowship; Coalition for Peace Action (Princeton\, NJ); Death Walk Against Drones; LEPOCO (Lehigh-Pocono Committee of Concern); Germantown Monthly Meeting of the Religious Society of Friends (Quakers); Global Women’s Strike/Phila.; Granny Peace Brigade—Philadelphia; Green Party of Philadelphia; Greens of Montgomery and Bucks County; Main Line Peace Action; Pacem in Terris (Wilmington\, DE); Payday men’s network/Phila.; Peace & Justice Ministry of St. Vincent’s Roman Catholic Church in Germantown; Philly Against War; Peace Center of Delaware County; Philadelphia Catholic Worker; Shalom House/Circle of Hope; Veterans for Peace; Vietnam Veterans Against the War; Women’s International League for Peace & Freedom (WILPF)\, Phila-Delco.\n\nBackground\n\nThe U.S. Air Force in March 2013 announced\, along with local\, state\, and federal officials\, plans to establish a drone war command center at the 111th Fighter Wing\, Pennsylvania Air National Guard\, at Horsham Air National Guard Station.\n\nThe objective of the drone war command center in Horsham is remote-controlled killing. From Horsham\, computer piloted “Reaper” drones would be directed to targets thousands of miles away.\n\nThese attack drones carry deadly Hellfire missiles and laser-guided bombs that are fired by computer “pilot” command from the U.S. against people in Pakistan\, Afghanistan\, Yemen\, Syria\, and Somalia.  Drone strikes have killed thousands of people\, mostly civilians and children whose images and faces may have appeared on the pilot’s computer monitor.The multimillion-dollar drone command center in Horsham is a central part of the growing network of drone bases\, training sites\, and command centers\, crisscrossing the U.S\, funded by billions of U.S. tax dollars\, and enabling remote-controlled drone strikes around the world \n\n\nMillions in federal dollars were appropriated in October 2013 for the PA drone command center\, which is now slated to be fully operational in 2015 to conduct drone killing ‘missions’ from Horsham\, PA.\n\nMore on drone warfare and spying: www.knowdrones.com\n\nPA Gov. Tom Wolf (and head of the PA Guard/Air National Guard)\, take responsibility. Initiate hearings on the drone command center.\nWhile funded by the U.S. Air Force\, the drone command center is located at the Horsham Air Guard station on commonwealth property. There has\, as yet\, not been a single citizens hearing by state authorities. Governor Wolf can initiate these badly needed hearings.\nCall and write the Governor’s office now: 508 E-floor Main Capitol Building\, Harrisburg\, PA 17120\, tel: (717) 787-2500.\n\nCall your senators: Bob Casey\, (215) 405-9660; Pat Toomey\, (215) 241-1090\,\nand your U.S. Representatives at 1-855-686-6927. Find your U.S. representative at www.house.gov/representatives/find.\nWrite these two…\n\nPatrick Meehan (R-PA-CD#7)\, 610-690-7323\, http://meehan.house.gov)\, chief congressional booster of the Drone War Command Center in Horsham. His district\, mostly Delaware County\, includes a part of Montgomery County and Horsham Township.\nBrendon Boyle (D-PA-13th District\, 215-517-6572\, https://boyle.house.gov/contact/offices). His district includes Northeast Philadelphia and part of Montgomery County and Horsham Township\n\n‘Meet the Reaper’\, the MQ-9 Reaper Drone\nUnmanned\, remote-controlled\, 66 foot wingspan\, 4\,900 lbs.\, 230 mph cruise speed\n1\,150-mile range\, 50\,000 max. altitude\, $53.5 million (FY 2006 dollars)=cost of four aircraft with sensors\, (not counting weaponry and remote-control technology)\nReaper Weaponry: Hellfire Missiles (Lockheed Martin); Paveway/GBU-38 Laser-Guilded Bombs (Raytheon)\n
URL:http://www.brandywinepeace.com/event/demonstration-at-horsham-pa-air-guard-to-protest-drone-war-command-center/
LOCATION:Horsham PA Air Guard Station\, Route 611 and County Line Road\, Horsham\, PA\, 19044\, United States
END:VEVENT
END:VCALENDAR