BEGIN:VCALENDAR
VERSION:2.0
PRODID:-//Brandywine Peace Community - ECPv5.1.4//NONSGML v1.0//EN
CALSCALE:GREGORIAN
METHOD:PUBLISH
X-WR-CALNAME:Brandywine Peace Community
X-ORIGINAL-URL:http://www.brandywinepeace.com
X-WR-CALDESC:Events for Brandywine Peace Community
BEGIN:VTIMEZONE
TZID:America/New_York
BEGIN:DAYLIGHT
TZOFFSETFROM:-0500
TZOFFSETTO:-0400
TZNAME:EDT
DTSTART:20220313T070000
END:DAYLIGHT
BEGIN:STANDARD
TZOFFSETFROM:-0400
TZOFFSETTO:-0500
TZNAME:EST
DTSTART:20221106T060000
END:STANDARD
END:VTIMEZONE
BEGIN:VEVENT
DTSTART;TZID=America/New_York:20221105T120000
DTEND;TZID=America/New_York:20221105T133000
DTSTAMP:20260421T034422
CREATED:20221104T150500Z
LAST-MODIFIED:20221104T160949Z
UID:2074-1667649600-1667655000@www.brandywinepeace.com
SUMMARY:DEFUSE NUCLEAR WAR\, BANNERING - Say NO to NUKES on Germantown Ave. Chestnut Hill
DESCRIPTION: \n  \n  \n  \n  \n  \n  \n  \nWE MUST STOP THE ULTIMATE THREAT\nTO LIFE & PLANET \nSight & Sound to Continue DEFUSE NUCLEAR WAR\ncampaign\, https://defusenuclearwar.org/\nReach-out and Into our communities for peace. \nDEFUSE NUCLEAR WAR Bannering – Say NO to NUKES\nChestnut Hill\, Philadelphia\, PA\, Germantown Ave. & Mermaid Lane\nSaturday\, November 5\, NOON\n \n  \nBANNERS\, POSTERS\, BELL-TOLLING. BRING YOUR FOLDING CHAIR IF YOU NEED TO SIT.\n  \n  \n
URL:http://www.brandywinepeace.com/event/defuse-nuclear-war-bannering-say-no-to-nukes-on-germantown-ave-chestnut-hill/
LOCATION:Chestnut Hill Circle\, 7673 Germantown Ave\,\, Philadelphia\, PA\, 19118\, United States
ORGANIZER;CN="Brandywine%20Peace%20Community":MAILTO:brandywine@juno.com
END:VEVENT
END:VCALENDAR