BEGIN:VCALENDAR
VERSION:2.0
PRODID:-//Brandywine Peace Community - ECPv5.1.4//NONSGML v1.0//EN
CALSCALE:GREGORIAN
METHOD:PUBLISH
X-WR-CALNAME:Brandywine Peace Community
X-ORIGINAL-URL:http://www.brandywinepeace.com
X-WR-CALDESC:Events for Brandywine Peace Community
BEGIN:VTIMEZONE
TZID:UTC
BEGIN:STANDARD
TZOFFSETFROM:+0000
TZOFFSETTO:+0000
TZNAME:UTC
DTSTART:20170101T000000
END:STANDARD
END:VTIMEZONE
BEGIN:VEVENT
DTSTART;TZID=UTC:20170427T120000
DTEND;TZID=UTC:20170427T140000
DTSTAMP:20260420T200652
CREATED:20170322T081024Z
LAST-MODIFIED:20170427T013138Z
UID:629-1493294400-1493301600@www.brandywinepeace.com
SUMMARY:Cancelled!  See April 28 - Cut Penn's Ties to Endless War & Trump.
DESCRIPTION:\n\n\nThursday\, April 27 planned demonstration at UPenn???  \nCANCELED  April 27th demonstration at UPenn.   Instead\, we’ll be cooperating with the planned Drone Death Walk/Vigil during the Penn Relays on Friday\, April 28. Hope more people will attend!\n\nCanceled – Thurs.\, April 27 \, Noon\, 34th & Walnut Streets\, Phila.\, PA 19104.  Protest University of Pennsylvania involvement and representation in the U.S.’s unrelenting policy of endless war and drone attacks\, the military-industrial complex\, mass incarceration\, and domestic handgun violence\n \n\n\nThousands from around the world will be at UPenn for these historic games and UPenn’s flagship.  Thousands will hear our message.\n\n\n\nThe University of Pennsylvania engineering department maintains the high level GRASP  Lab [General Robotics\, Automation\, Sensing and Perception] that researches and develops drone technology\, funded by the Pentagon\, and applicable to the  worldwide U.S. drone warfare  and the remote controlled killing of people thousands of miles away.\n\nThe protest will also call on Amy Guttman\, president of the University of Pennsylvania and board member of the Vanguard Group\, to take a public position against the Vanguard Group’s investment in war (1)\, mass incarceration (2) and small arms (3).  Guttman appears to have been paid over $1.2 million by the Vanguard Group as a member of its board of directors\,  Guttman’s salary at UPenn is reportedly $3.4 million and has been on the Vanguard board since 2006.  We call on Guttman to resign from the board\, and even considering giving the money she received from Vanguard to justice and peace efforts\n\n\nMilitary contractors such as Lockheed Martin\, Honeywell Corporation\, and Boeing\, all of which profit from from drone killing and war in general. Military hardware is Vanguard’s largest investment sector.\n\n\nThe Corrections Corporation of America (CCA)\, the largest for-profit private prison company in which Vanguard is the largest investor.\n\n\nSmith & Wesson (SWHC) and Sturm-Ruger firearms manufacturers. Smith & Wesson manufactured two of the guns used in the San Bernardino massacre. Vanguard also invests in ammunition makers in Vista Outdoor (VSTO) and Orbital ATK (OA).\n\nToday\, racism\, xenophobia\, Islamaphobia\, the hatred of immigrants and the undocumented fuels the  investments of the Vanguard Ground no less than Donald J. Trumpthat speak of  bigger and bigger walls\, more bombing\, and banning refugees fleeing U.S. wars from Syria to Afghanistan.  Drone warfare\, gun violence\, for-profit prisons and mass incarceration are the death ships on which the investments of the Vanguard group sail.\n\n\n\n\n\n
URL:http://www.brandywinepeace.com/event/cut-penns-ties-to-endless-war-anti-war-stand-at-penn-relays/
ORGANIZER;CN="Brandywine%20Peace%20Community":MAILTO:brandywine@juno.com
END:VEVENT
END:VCALENDAR