BEGIN:VCALENDAR
VERSION:2.0
PRODID:-//Brandywine Peace Community - ECPv5.1.4//NONSGML v1.0//EN
CALSCALE:GREGORIAN
METHOD:PUBLISH
X-WR-CALNAME:Brandywine Peace Community
X-ORIGINAL-URL:http://www.brandywinepeace.com
X-WR-CALDESC:Events for Brandywine Peace Community
BEGIN:VTIMEZONE
TZID:America/New_York
BEGIN:DAYLIGHT
TZOFFSETFROM:-0500
TZOFFSETTO:-0400
TZNAME:EDT
DTSTART:20150308T070000
END:DAYLIGHT
BEGIN:STANDARD
TZOFFSETFROM:-0400
TZOFFSETTO:-0500
TZNAME:EST
DTSTART:20151101T060000
END:STANDARD
END:VTIMEZONE
BEGIN:VEVENT
DTSTART;TZID=America/New_York:20150703T190000
DTEND;TZID=America/New_York:20150703T213000
DTSTAMP:20260421T025504
CREATED:20150603T235116Z
LAST-MODIFIED:20150603T235116Z
UID:266-1435950000-1435959000@www.brandywinepeace.com
SUMMARY:"CHICAGO 10" First-Friday Free Film Showing (a movie to celebrate Independence Day
DESCRIPTION:First-Friday Free Large Screen Film Showing at Peace Center of Delaware County\, 1001 Old Sproul Rd.\, Springfield\, PA\n \nChicago 10\n(2007\, 110 minutes. Directed by Brett Morgan\, with the voice talents of Nick Nolte\, Mark Ruffalo\, and Jeffrey Wright. Rated R for language and brief sexual images )\nThe convention was drama\, the trial was comedy.\nChicago 10 presents the historic Chicago Conspiracy trial with a unique mix of archival footage and brilliant animation\, with today’s music to bring alive the events\, characters\, the hopes as well as the drama and farce of a new face of freedom. \nDoors open at 6:30p.m. for light refreshments.  After-film discussion optional. \nFor more information and directions to the Peace Center of Delaware County\, go to www.delcopeacecenter.org \nCo-sponsored by the Brandywine Peace Community. \n
URL:http://www.brandywinepeace.com/event/chicago-10-first-friday-free-film-showing-a-movie-to-celebrate-independence-day/
LOCATION:Peace Center of Delaware County\, 1001 Old Sproul Road\, Springfield\, PA 19064.\, 19064\, United States
END:VEVENT
END:VCALENDAR