BEGIN:VCALENDAR
VERSION:2.0
PRODID:-//Brandywine Peace Community - ECPv5.1.4//NONSGML v1.0//EN
CALSCALE:GREGORIAN
METHOD:PUBLISH
X-WR-CALNAME:Brandywine Peace Community
X-ORIGINAL-URL:http://www.brandywinepeace.com
X-WR-CALDESC:Events for Brandywine Peace Community
BEGIN:VTIMEZONE
TZID:UTC
BEGIN:STANDARD
TZOFFSETFROM:+0000
TZOFFSETTO:+0000
TZNAME:UTC
DTSTART:20170101T000000
END:STANDARD
END:VTIMEZONE
BEGIN:VEVENT
DTSTART;TZID=UTC:20170418T113000
DTEND;TZID=UTC:20170418T133000
DTSTAMP:20260420T213733
CREATED:20170329T210608Z
LAST-MODIFIED:20170329T210640Z
UID:639-1492515000-1492522200@www.brandywinepeace.com
SUMMARY:Brandywine Peace Community Supports Granny Peace Brigade's Tax Day Demonstration
DESCRIPTION:Granny Peace Brigade Philadelphia Tax Day Demonstration \nTuesday\, April 18th\nBroad and Sansom Street\, Philadelphia\, PA (Post Office)\nFrom: Granny Peace Brigade Philadelphia…http://www.grannypeacebrigadephiladelphia.org/upcoming-events.html\nThe demonstration commences at 11:30 a.m. to 1:30 p.m. in front of the Broad and Sansom Street post office. Passerby will be invited to put coins\, which we will give to them\, in  jars labeled Military\, Education\, Health and asked to indicate their preference as to how they want their tax dollars  spent  by placing the coins in one of the containers. The grannies have carried out this non-scientific poll for many years. This year the grannies will give specific attention to nuclear weapons spending.\n
URL:http://www.brandywinepeace.com/event/brandywine-peace-community-support-granny-peace-brigades-tax-day-demonstration/
END:VEVENT
END:VCALENDAR