BEGIN:VCALENDAR
VERSION:2.0
PRODID:-//Brandywine Peace Community - ECPv5.1.4//NONSGML v1.0//EN
CALSCALE:GREGORIAN
METHOD:PUBLISH
X-WR-CALNAME:Brandywine Peace Community
X-ORIGINAL-URL:http://www.brandywinepeace.com
X-WR-CALDESC:Events for Brandywine Peace Community
BEGIN:VTIMEZONE
TZID:America/New_York
BEGIN:DAYLIGHT
TZOFFSETFROM:-0500
TZOFFSETTO:-0400
TZNAME:EDT
DTSTART:20150308T070000
END:DAYLIGHT
BEGIN:STANDARD
TZOFFSETFROM:-0400
TZOFFSETTO:-0500
TZNAME:EST
DTSTART:20151101T060000
END:STANDARD
END:VTIMEZONE
BEGIN:VEVENT
DTSTART;TZID=America/New_York:20150208T163000
DTEND;TZID=America/New_York:20150208T193000
DTSTAMP:20260422T114711
CREATED:20150203T015939Z
LAST-MODIFIED:20150203T015939Z
UID:134-1423413000-1423423800@www.brandywinepeace.com
SUMMARY:Brandywine Peace Community Monthly Potluck Supper & Program
DESCRIPTION:Brandywine Peace Community Monthly Potluck Supper & Program at University Lutheran Church\, 3637 Chestnut Street\, Phila.\, PA 19104 (corner of 37th & Chestnut Sts.) \nHonoring Black History Month… Phila. showing of FREE ANGELA & ALL POLITICAL PRISONERS (2013\, Not Rated\, 1 hour 40 minutes\, large screen)\nThe  acclaimed documentary by award-winning film maker\, Shola Lynch\, tells the story of Angela Davis…Revolutionary scholar\, philosopher\, activist icon\,  African-American Feminist.   Do you know her story and its relevance for  today as people face police violence and repression? \nBrandywine Peace Community Monthly Potluck Supper & Program\, 2nd Sunday of the month\, at University Lutheran Church Church.  4:30p.m. Potluck Supper\, bring main dish\, salad\, or dessert. Program begins at 5:30p.m. \nParking at rear of church in small lot and on-street in front of church.  SEPTA bus #21 stop immediately across the street from church\, see www.septa.org \n
URL:http://www.brandywinepeace.com/event/brandywine-peace-community-monthly-potluck-supper-program/
LOCATION:University Lutheran Church\, 3637 Chestnut Street \, Philadelphia\, PA\, 19104\, United States
END:VEVENT
END:VCALENDAR