BEGIN:VCALENDAR
VERSION:2.0
PRODID:-//Brandywine Peace Community - ECPv5.1.4//NONSGML v1.0//EN
CALSCALE:GREGORIAN
METHOD:PUBLISH
X-WR-CALNAME:Brandywine Peace Community
X-ORIGINAL-URL:http://www.brandywinepeace.com
X-WR-CALDESC:Events for Brandywine Peace Community
BEGIN:VTIMEZONE
TZID:America/New_York
BEGIN:DAYLIGHT
TZOFFSETFROM:-0500
TZOFFSETTO:-0400
TZNAME:EDT
DTSTART:20150308T070000
END:DAYLIGHT
BEGIN:STANDARD
TZOFFSETFROM:-0400
TZOFFSETTO:-0500
TZNAME:EST
DTSTART:20151101T060000
END:STANDARD
END:VTIMEZONE
BEGIN:VEVENT
DTSTART;TZID=America/New_York:20150512T120000
DTEND;TZID=America/New_York:20150512T130000
DTSTAMP:20260421T121211
CREATED:20150501T194833Z
LAST-MODIFIED:20150501T194833Z
UID:242-1431432000-1431435600@www.brandywinepeace.com
SUMMARY:Anti-War Appeal at Air Force Recruiting Station near Temple University
DESCRIPTION:Sidewalk Anti-War Appeal to Stop U.S. Drone Attacks and ‘Endless War’\nU.S. Air Force Recruiting Station\, 1600 Broad Street\, Philadelphia\, PA 19124\,  half block south of Cecil B. Moore Ave. Subway stop at Temple University. \nMake Appeal to Potential Recruits…Stop the Killing; Refuse to be drone operators [“pilots”] who are being drawn from the U.S. Air Force and Air National Guard for drone war command centers across the country\, such as the one at the Horsham Air Guard Station\, outside of Philadelphia.\nRecruits for ‘Endless War’ and Drone Attacks: \nJust Walk Away.  Stop the Killing. Peace\, Your Neighbors” \n “Fly Kites\, Not Killer Drones” \n  \n
URL:http://www.brandywinepeace.com/event/anti-war-appeal-at-air-force-recruiting-station-near-temple-university/
LOCATION:U.S. Air Force Recruiting Station\, 1600 N. Broad Street\, Philadelphia\, PA\, 19124\, United States
END:VEVENT
END:VCALENDAR