BEGIN:VCALENDAR
VERSION:2.0
PRODID:-//Brandywine Peace Community - ECPv5.1.4//NONSGML v1.0//EN
CALSCALE:GREGORIAN
METHOD:PUBLISH
X-WR-CALNAME:Brandywine Peace Community
X-ORIGINAL-URL:http://www.brandywinepeace.com
X-WR-CALDESC:Events for Brandywine Peace Community
BEGIN:VTIMEZONE
TZID:America/New_York
BEGIN:DAYLIGHT
TZOFFSETFROM:-0500
TZOFFSETTO:-0400
TZNAME:EDT
DTSTART:20150308T070000
END:DAYLIGHT
BEGIN:STANDARD
TZOFFSETFROM:-0400
TZOFFSETTO:-0500
TZNAME:EST
DTSTART:20151101T060000
END:STANDARD
END:VTIMEZONE
BEGIN:VEVENT
DTSTART;TZID=America/New_York:20150922T160000
DTEND;TZID=America/New_York:20150922T173000
DTSTAMP:20260420T170908
CREATED:20150919T015021Z
LAST-MODIFIED:20150919T015021Z
UID:348-1442937600-1442943000@www.brandywinepeace.com
SUMMARY:30th St. Train Station\, Phila.\, Bring Home Pope Francis' Message of Peace...Stop U.S. Drone Terror; Stop Drone War Command Center
DESCRIPTION:‘War Never Again; Never Again War.’\n– Pope Francis\nSigns\, banners\, leaflets…4p.m. – 5:30p.m.\, 30th St. Train Station\, NW corner of 30th & Market Streets.\nReach out to our neighbors about war\, drone war\, and about the drone war command center being established in Horsham\, PA\, just outside of Philadelphia\, at the Horsham Air Guard Station.\nReach out to our neighbors about Pope Francis\, his historic visit to Philadelphia\, and his appeal: ‘War Never Again; Never Again War.’\nReach out to our neighbors inviting to Stop the Drone War Command Center in Horsham\, and to bring Pope Francis’ message of Justice and Peace to Horsham on September 26 (see events calendar\, Sept. 26)\, the first day of the pope’s historic visit to Philadelphia\n \n
URL:http://www.brandywinepeace.com/event/30th-st-train-station-phila-bring-home-pope-francis-message-of-peace-stop-u-s-drone-terror-stop-drone-war-command-center/
LOCATION:30th Street Train Station\, 30th & Market Streets\, Philadelphia\, PA\, 19104\, United States
ORGANIZER;CN="Brandywine%20Peace%20Community":MAILTO:brandywine@juno.com
END:VEVENT
END:VCALENDAR